BEGIN:VCALENDAR
VERSION:2.0
PRODID:-//eventon.com NONSGML v1.0//EN
CALSCALE:GREGORIAN
METHOD:PUBLISH
BEGIN:VEVENT
UID:69e4ea2da1bb9
DTSTAMP:20260419T144357Z
DTSTART:20260426T131500Z
DTEND:20260426T141500Z
LOCATION:The Rectory &amp; 180 Club 50-54 St Paul's Square\,  Birmingham\,  B3 1QS
SUMMARY:Dachshund Birmingham 1.15pm
DESCRIPTION:Step into a little pocket of joy in the heart of Birmingham and
  unwind in the company of an irresistible litter of six tiny Dachshund pupp
 ies. This feel-good experience is designed to brighten your day\,  offering
  plenty of playtime\,  cuddles\,  and snuggles with these adorable four-leg
 ged charmers. With over three[..]\nhttps://paws-and-hugs.poochtherapy.co.uk
 /events/dachshund-birmingham-1-15pm-3/
URL:https://paws-and-hugs.poochtherapy.co.uk/events/dachshund-birmingham-1-15pm-3/
END:VEVENT
END:VCALENDAR