BEGIN:VCALENDAR
VERSION:2.0
PRODID:-//eventon.com NONSGML v1.0//EN
CALSCALE:GREGORIAN
METHOD:PUBLISH
BEGIN:VEVENT
UID:69e4eff1882a4
DTSTAMP:20260419T150833Z
DTSTART:20260514T191500Z
DTEND:20260514T201500Z
LOCATION:Liv To Reform Studios 365 Nuthall Road\,  Nottingham\,  NG8 5BU
SUMMARY:Cream Dachshund & French Bulldog Nottingham 7.15pm
DESCRIPTION:🐾 Paws &amp; Hugs Pooch Therapy is coming to Nottingham! 
  Nottingham\,  are you ready for the cutest kind of chaos?Four tiny Dachsh
 und puppies and two French Bulldogs are on their way—and they’re bringi
 ng all the cuddles\,  zoomies\,  and serotonin with them 💕 Step into a c
 osy\,  feel-good space where[..]\nhttps://paws-and-hugs.poochtherapy.co.uk/
 events/cream-dachshund-french-bulldog-nottingham-7-15pm/
URL:https://paws-and-hugs.poochtherapy.co.uk/events/cream-dachshund-french-bulldog-nottingham-7-15pm/
END:VEVENT
END:VCALENDAR