BEGIN:VCALENDAR
VERSION:2.0
PRODID:-//eventon.com NONSGML v1.0//EN
CALSCALE:GREGORIAN
METHOD:PUBLISH
BEGIN:VEVENT
UID:69e4eb7e79ae3
DTSTAMP:20260419T144934Z
DTSTART:20260516T120000Z
DTEND:20260516T130000Z
LOCATION:Unit 4 - Stanley Square Stanley Square Sale Manchester M33 7ZZ
SUMMARY:Dachshund\,  Manchester Sale 12pm
DESCRIPTION:Come and unwind in the joyful company of an irresistible litter
  of tiny Dachshund puppies. Your ticket price also includes a drink of your
  choice at the venue. This extra-special event is your chance to boost your
  mood with playtime\,  cuddles\,  and snuggles galore from these adorable f
 our-legged charmers. With[..]\nhttps://paws-and-hugs.poochtherapy.co.uk/eve
 nts/dachshund-manchester-sale-12pm/
URL:https://paws-and-hugs.poochtherapy.co.uk/events/dachshund-manchester-sale-12pm/
END:VEVENT
END:VCALENDAR